BEGIN:VCALENDAR
VERSION:2.0
PRODID:-//Get to the Point - ECPv4.6.24.1//NONSGML v1.0//EN
CALSCALE:GREGORIAN
METHOD:PUBLISH
X-WR-CALNAME:Get to the Point
X-ORIGINAL-URL:https://www.gettothepoint.co.nz
X-WR-CALDESC:Events for Get to the Point
BEGIN:VEVENT
DTSTART;TZID=UTC+12:20180723T190000
DTEND;TZID=UTC+12:20180723T203000
DTSTAMP:20181224T004916
CREATED:20180606T031007Z
LAST-MODIFIED:20180606T031007Z
UID:52-1532372400-1532377800@www.gettothepoint.co.nz
SUMMARY:Committee Meeting
DESCRIPTION:
URL:https://www.gettothepoint.co.nz/event/committee-meeting/
LOCATION:Town Hall
END:VEVENT
END:VCALENDAR